BEGIN:VCALENDAR
VERSION:2.0
PRODID:-//Welcome to West Valley Neighborhood Association - ECPv6.15.20//NONSGML v1.0//EN
CALSCALE:GREGORIAN
METHOD:PUBLISH
X-WR-CALNAME:Welcome to West Valley Neighborhood Association
X-ORIGINAL-URL:https://www.westvalleyboise.org
X-WR-CALDESC:Events for Welcome to West Valley Neighborhood Association
REFRESH-INTERVAL;VALUE=DURATION:PT1H
X-Robots-Tag:noindex
X-PUBLISHED-TTL:PT1H
BEGIN:VTIMEZONE
TZID:UTC
BEGIN:STANDARD
TZOFFSETFROM:+0000
TZOFFSETTO:+0000
TZNAME:UTC
DTSTART:20180101T000000
END:STANDARD
END:VTIMEZONE
BEGIN:VEVENT
DTSTART;TZID=UTC:20220316T180000
DTEND;TZID=UTC:20220316T200000
DTSTAMP:20260423T174345
CREATED:20220222T034152Z
LAST-MODIFIED:20220222T034152Z
UID:297-1647453600-1647460800@www.westvalleyboise.org
SUMMARY:West Valley Neighborhood Association Board Meeting
DESCRIPTION:
URL:https://www.westvalleyboise.org/event/west-valley-neighborhood-association-board-meeting/
LOCATION:Library! At Cole and Ustick Bitterbrush Room\, 7557 W Ustick Rd\, Boise\, ID\, 83704\, United States
END:VEVENT
BEGIN:VEVENT
DTSTART;TZID=UTC:20211017T140000
DTEND;TZID=UTC:20211017T170000
DTSTAMP:20260423T174345
CREATED:20211012T030137Z
LAST-MODIFIED:20211012T030137Z
UID:277-1634479200-1634490000@www.westvalleyboise.org
SUMMARY:Boise City Council District 1 Candidate's Forum
DESCRIPTION:
URL:https://www.westvalleyboise.org/event/boise-city-council-district-1-candidates-forum/
LOCATION:Redwood Park\, 2675 N Shamrock Ave\, Boise\, ID\, United States
ATTACH;FMTTYPE=image/jpeg:https://www.westvalleyboise.org/wp-content/uploads/2021/10/City-Counsel-Candidate-2021-2.jpg
END:VEVENT
BEGIN:VEVENT
DTSTART;TZID=UTC:20210714T180000
DTEND;TZID=UTC:20210714T200000
DTSTAMP:20260423T174345
CREATED:20210707T033629Z
LAST-MODIFIED:20210707T033629Z
UID:272-1626285600-1626292800@www.westvalleyboise.org
SUMMARY:Neighborhood Concert Series- Redwood Park
DESCRIPTION:
URL:https://www.westvalleyboise.org/event/neighborhood-concert-series-redwood-park/
LOCATION:Redwood Park\, 2675 N Shamrock Ave\, Boise\, ID\, United States
ATTACH;FMTTYPE=image/png:https://www.westvalleyboise.org/wp-content/uploads/2021/07/1-Redwood-Park.png
END:VEVENT
BEGIN:VEVENT
DTSTART;TZID=UTC:20210602T183000
DTEND;TZID=UTC:20210602T183000
DTSTAMP:20260423T174345
CREATED:20210225T033157Z
LAST-MODIFIED:20210225T033157Z
UID:262-1622658600-1622658600@www.westvalleyboise.org
SUMMARY:Annual Neighborhood Meeting
DESCRIPTION:Location TBA
URL:https://www.westvalleyboise.org/event/annual-neighborhood-meeting/
LOCATION:ID
END:VEVENT
BEGIN:VEVENT
DTSTART;TZID=UTC:20210223T190000
DTEND;TZID=UTC:20210223T190000
DTSTAMP:20260423T174345
CREATED:20210225T033054Z
LAST-MODIFIED:20210225T033054Z
UID:260-1614106800-1614106800@www.westvalleyboise.org
SUMMARY:February Board Meeting
DESCRIPTION:WEST VALLEY NEIGHBORHOOD ASSOCIATION QUARTLY BOARD MEETING \nFebruary 23\, 2021\n7:00 p.m.\nZoom Meeting \nAGENDA\nCall to order\nNew Business \nUstick Townsite signage and public art update and report – Nikki Drake\nUstick in Bloom/Energize Updates – Melinda McGoldrick\nMini grant submission – due June 2021\nWVNA Bylaws revisions – discussion\nUstick Townsite conservation area – establish a working committee
URL:https://www.westvalleyboise.org/event/february-board-meeting/
LOCATION:ID
END:VEVENT
BEGIN:VEVENT
DTSTART;TZID=UTC:20201119T180000
DTEND;TZID=UTC:20201119T200000
DTSTAMP:20260423T174345
CREATED:20201103T032152Z
LAST-MODIFIED:20201103T032314Z
UID:184-1605808800-1605816000@www.westvalleyboise.org
SUMMARY:November Board Meeting
DESCRIPTION:The Board meeting will be held at on November 19\, 2020 at McMillan Elementary School\, 10901 W. McMillan in the Community School. Meeting time is 6:00 p.m. to 8:00 p.m. Please remember to bring your mask! \n  \nAdjourn
URL:https://www.westvalleyboise.org/event/november-board-meeting/
LOCATION:McMillan Elementary School\, 10901 W McMillan Rd\, Boise\, ID\, 83713\, United States
END:VEVENT
BEGIN:VEVENT
DTSTART;TZID=UTC:20200827T180000
DTEND;TZID=UTC:20200827T200000
DTSTAMP:20260423T174345
CREATED:20200107T010320Z
LAST-MODIFIED:20200810T151513Z
UID:212-1598551200-1598558400@www.westvalleyboise.org
SUMMARY:Board Meeting
DESCRIPTION:
URL:https://www.westvalleyboise.org/event/board-meeting-4/
LOCATION:Redwood Park\, 2675 N Shamrock Ave\, Boise\, ID\, United States
END:VEVENT
BEGIN:VEVENT
DTSTART;TZID=UTC:20200528T180000
DTEND;TZID=UTC:20200528T200000
DTSTAMP:20260423T174345
CREATED:20200107T005109Z
LAST-MODIFIED:20200107T005109Z
UID:206-1590688800-1590696000@www.westvalleyboise.org
SUMMARY:Board Meeting
DESCRIPTION:
URL:https://www.westvalleyboise.org/event/board-meeting-5/
LOCATION:Library! At Cole and Ustick Bitterbrush Room\, 7557 W Ustick Rd\, Boise\, ID\, 83704\, United States
END:VEVENT
BEGIN:VEVENT
DTSTART;TZID=UTC:20200211T183000
DTEND;TZID=UTC:20200211T203000
DTSTAMP:20260423T174345
CREATED:20200107T010220Z
LAST-MODIFIED:20200107T010220Z
UID:210-1581445800-1581453000@www.westvalleyboise.org
SUMMARY:A Community in Bloom: Ustick's Past\, Present and Future
DESCRIPTION:
URL:https://www.westvalleyboise.org/event/a-community-in-bloom-usticks-past-present-and-future/
LOCATION:Library! At Cole and Ustick Bitterbrush Room\, 7557 W Ustick Rd\, Boise\, ID\, 83704\, United States
END:VEVENT
BEGIN:VEVENT
DTSTART;TZID=UTC:20191121T190000
DTEND;TZID=UTC:20191121T210000
DTSTAMP:20260423T174345
CREATED:20190820T220508Z
LAST-MODIFIED:20191118T045118Z
UID:168-1574362800-1574370000@www.westvalleyboise.org
SUMMARY:Board Meeting
DESCRIPTION:Board Meeting Agenda\nNovember 21\, 2019 \nCall to order \n\nWelcome and Introductions\nReview Capital projects for current submittal for 2021 NIP\nawards – street lighting for Bali Hai neighborhood\nBrandi Burns – Ustick Townsite historical survey\nUpdate on Ustick Beautification Project\nNew WVNA website\nCity Council members\nUpcoming Board elections and open Board positions\n\nAdjourn
URL:https://www.westvalleyboise.org/event/board-meeting-2/
LOCATION:Library! At Cole and Ustick Bitterbrush Room\, 7557 W Ustick Rd\, Boise\, ID\, 83704\, United States
END:VEVENT
BEGIN:VEVENT
DTSTART;TZID=UTC:20190822T190000
DTEND;TZID=UTC:20190822T210000
DTSTAMP:20260423T174345
CREATED:20190820T220400Z
LAST-MODIFIED:20190820T220651Z
UID:165-1566500400-1566507600@www.westvalleyboise.org
SUMMARY:Board Meeting
DESCRIPTION:
URL:https://www.westvalleyboise.org/event/board-meeting/
LOCATION:Library! At Cole and Ustick Bitterbrush Room\, 7557 W Ustick Rd\, Boise\, ID\, 83704\, United States
END:VEVENT
END:VCALENDAR